BEGIN:VCALENDAR
VERSION:2.0
PRODID:-//Astroclub Radebeul e. V. an der Sternwarte Radebeul - ECPv6.10.2//NONSGML v1.0//EN
CALSCALE:GREGORIAN
METHOD:PUBLISH
X-WR-CALNAME:Astroclub Radebeul e. V. an der Sternwarte Radebeul
X-ORIGINAL-URL:https://www.sternwarte-radebeul.de
X-WR-CALDESC:Veranstaltungen für Astroclub Radebeul e. V. an der Sternwarte Radebeul
REFRESH-INTERVAL;VALUE=DURATION:PT1H
X-Robots-Tag:noindex
X-PUBLISHED-TTL:PT1H
BEGIN:VTIMEZONE
TZID:Europe/Berlin
BEGIN:DAYLIGHT
TZOFFSETFROM:+0100
TZOFFSETTO:+0200
TZNAME:CEST
DTSTART:20260329T010000
END:DAYLIGHT
BEGIN:STANDARD
TZOFFSETFROM:+0200
TZOFFSETTO:+0100
TZNAME:CET
DTSTART:20261025T010000
END:STANDARD
END:VTIMEZONE
BEGIN:VEVENT
DTSTART;TZID=Europe/Berlin:20260423T193000
DTEND;TZID=Europe/Berlin:20260423T203000
DTSTAMP:20260423T165534
CREATED:20230705T075704Z
LAST-MODIFIED:20260210T083335Z
UID:9165-1776972600-1776976200@www.sternwarte-radebeul.de
SUMMARY:Jarre to the Stars
DESCRIPTION:Musik-\, Fulldome- und Lasershow im Planetarium \nJean Michel Jarre hat Musikgeschichte geschrieben und beeinflusst seit unglaublichen 50 Jahren die Musikwelt. Er gilt als Pionier der elektronischen Musik und ist bis heute unglaublich kreativ. Wir präsentieren im Planetarium die Musik des Meisters als audiovisuelles Erlebnis unter den Sternen\, mit rasanten Ganzkuppelsequenzen und Lasereffekten. \nBild © Sternwarte Radebeul  \nWir bitten um eine Reservierung.\nNutzen Sie bitte den Button: „Zur Kartenreservierung für diese städtische Veranstaltung“ rechts unten.\nDort sehen Sie wie viele Karten verfügbar sind\, oder ob diese Veranstaltung ausverkauft ist. \nEintrittspreis: Erwachsene 12\,00 € Ermäßigt: 7\,00 €\nErmäßigungsberechtigt sind Kinder bis Vollendung des 18. Lebensjahres\, Schüler\, Auszubildende\, Studenten und Schwerbeschädigte.\nBitte nutzen Sie gern vorrangig die Möglichkeit der Kartenzahlung. \nDie Bezahlung der Karten erfolgt vor Ort.\nFolgende Zahlungsarten sind möglich:\n– Kreditkarte/Debitkarte\n– EC-Karte\n– Bargeld \n \n \nZur Kartenreservierung für diese städtische Veranstaltung
URL:https://www.sternwarte-radebeul.de/event/jarre-to-the-stars-februar-26/
LOCATION:Planetarium
CATEGORIES:Musikshow im Planetarium,Publikumsveranstaltung
ATTACH;FMTTYPE=image/webp:https://www.sternwarte-radebeul.de/wp-content/uploads/jarre_to_the_stars.webp
END:VEVENT
END:VCALENDAR